BEGIN:VCALENDAR
VERSION:2.0
PRODID:-//happyhands.org//NONSGML kigkonsult.se iCalcreator 2.30.10//
CALSCALE:GREGORIAN
METHOD:PUBLISH
UID:19ee093d-30f0-4ce6-9787-00de8e05f3dc
X-WR-CALDESC:Alumni\, students\, parents\, volunteers\, and staff - We invi
 te you to join your Happy Hands Family for a come-and-go reunion celebrati
 ng three decades of Happy Hands Education Center!
X-WR-RELCALID:46889545bf3a4d55e353a34d7ccb4b6b
X-WR-TIMEZONE:America/Chicago
BEGIN:VTIMEZONE
TZID:America/Chicago
BEGIN:STANDARD
TZNAME:CST
DTSTART:20231105T020000
TZOFFSETFROM:-0500
TZOFFSETTO:-0600
RDATE:20241103T020000
END:STANDARD
BEGIN:DAYLIGHT
TZNAME:CDT
DTSTART:20230312T020000
TZOFFSETFROM:-0600
TZOFFSETTO:-0500
RDATE:20240310T020000
RDATE:20250309T020000
END:DAYLIGHT
END:VTIMEZONE
BEGIN:VEVENT
UID:75ca887e-08a3-4e50-a309-caf721906e8b
DTSTAMP:20260424T153602Z
DESCRIPTION:Alumni\, students\, parents\, volunteers\, and staff - We invit
 e you to join your Happy Hands Family for a come-and-go reunion celebratin
 g three decades of Happy Hands Education Center!
DTSTART;TZID=America/Chicago:20240203T130000
DTEND;TZID=America/Chicago:20240203T160000
LOCATION:8801 S. Garnett Rd. \, Broken Arrow\, OK 74012 US
SUMMARY:30th Anniversary Family Reunion
END:VEVENT
END:VCALENDAR
