BEGIN:VCALENDAR
VERSION:2.0
PRODID:-//happyhands.org//NONSGML kigkonsult.se iCalcreator 2.30.10//
CALSCALE:GREGORIAN
METHOD:PUBLISH
UID:e1ad562d-680f-4ce1-8120-c509b76523ad
X-WR-CALDESC:
X-WR-RELCALID:3bcac64054c6ec1367f67c55a8695697
X-WR-TIMEZONE:America/Chicago
BEGIN:VTIMEZONE
TZID:America/Chicago
BEGIN:STANDARD
TZNAME:CST
DTSTART:20231105T020000
TZOFFSETFROM:-0500
TZOFFSETTO:-0600
RDATE:20241103T020000
END:STANDARD
BEGIN:DAYLIGHT
TZNAME:CDT
DTSTART:20240310T020000
TZOFFSETFROM:-0600
TZOFFSETTO:-0500
RDATE:20250309T020000
END:DAYLIGHT
END:VTIMEZONE
BEGIN:VEVENT
UID:45a6b713-5256-40e3-ad2e-042237814831
DTSTAMP:20260424T134751Z
DESCRIPTION:
DTSTART;TZID=America/Chicago:20240321T000000
DTEND;TZID=America/Chicago:20240322T235900
LOCATION:
SUMMARY:CLOSED - Spring Break
END:VEVENT
END:VCALENDAR
