BEGIN:VCALENDAR
VERSION:2.0
PRODID:-//happyhands.org//NONSGML kigkonsult.se iCalcreator 2.30.10//
CALSCALE:GREGORIAN
METHOD:PUBLISH
UID:eead19a0-e9f0-4a67-9301-320819ccf94a
X-WR-CALDESC:
X-WR-RELCALID:05e32f1e23e6a3af334e922147f03a26
X-WR-TIMEZONE:America/Chicago
BEGIN:VTIMEZONE
TZID:America/Chicago
BEGIN:STANDARD
TZNAME:CST
DTSTART:20231105T020000
TZOFFSETFROM:-0500
TZOFFSETTO:-0600
RDATE:20241103T020000
END:STANDARD
BEGIN:DAYLIGHT
TZNAME:CDT
DTSTART:20240310T020000
TZOFFSETFROM:-0600
TZOFFSETTO:-0500
RDATE:20250309T020000
END:DAYLIGHT
END:VTIMEZONE
BEGIN:VEVENT
UID:54cb5047-83c6-4748-a8be-9e904c9c3e65
DTSTAMP:20260424T121921Z
DESCRIPTION:
DTSTART;TZID=America/Chicago:20240426T000000
DTEND;TZID=America/Chicago:20240426T235900
LOCATION:
SUMMARY:Closed for Professional Development Training
END:VEVENT
END:VCALENDAR
