BEGIN:VCALENDAR
VERSION:2.0
PRODID:-//happyhands.org//NONSGML kigkonsult.se iCalcreator 2.30.10//
CALSCALE:GREGORIAN
METHOD:PUBLISH
UID:85c4cbae-722e-4282-9b66-0d63625279c4
X-WR-CALDESC:
X-WR-RELCALID:413ca22a469e7d1827f7b4e7c5d4a060
X-WR-TIMEZONE:America/Chicago
BEGIN:VTIMEZONE
TZID:America/Chicago
BEGIN:STANDARD
TZNAME:CST
DTSTART:20231105T020000
TZOFFSETFROM:-0500
TZOFFSETTO:-0600
RDATE:20241103T020000
RDATE:20251102T020000
END:STANDARD
BEGIN:DAYLIGHT
TZNAME:CDT
DTSTART:20240310T020000
TZOFFSETFROM:-0600
TZOFFSETTO:-0500
RDATE:20250309T020000
END:DAYLIGHT
END:VTIMEZONE
BEGIN:VEVENT
UID:72a6c5c5-da66-4b44-8c7a-978edde68f22
DTSTAMP:20260424T110210Z
DESCRIPTION:
DTSTART;TZID=America/Chicago:20240510T000000
DTEND;TZID=America/Chicago:20240510T235900
LOCATION:
SUMMARY:Happy Hands Fun Run
END:VEVENT
END:VCALENDAR
