BEGIN:VCALENDAR
VERSION:2.0
PRODID:-//happyhands.org//NONSGML kigkonsult.se iCalcreator 2.30.10//
CALSCALE:GREGORIAN
METHOD:PUBLISH
UID:b96c5f7c-dbbf-4466-ad86-6209e14af247
X-WR-CALDESC:
X-WR-RELCALID:651d2c81a6168086a3652dab1c1f0faf
X-WR-TIMEZONE:America/Chicago
BEGIN:VTIMEZONE
TZID:America/Chicago
BEGIN:STANDARD
TZNAME:CST
DTSTART:20231105T020000
TZOFFSETFROM:-0500
TZOFFSETTO:-0600
RDATE:20241103T020000
RDATE:20251102T020000
END:STANDARD
BEGIN:DAYLIGHT
TZNAME:CDT
DTSTART:20240310T020000
TZOFFSETFROM:-0600
TZOFFSETTO:-0500
RDATE:20250309T020000
END:DAYLIGHT
END:VTIMEZONE
BEGIN:VEVENT
UID:3bc994ed-ed49-431a-9f35-ea153031ed33
DTSTAMP:20260424T110154Z
DESCRIPTION:
DTSTART;TZID=America/Chicago:20240527T000000
DTEND;TZID=America/Chicago:20240527T235900
LOCATION:
SUMMARY:CLOSED - Memorial Day
END:VEVENT
END:VCALENDAR
