BEGIN:VCALENDAR
VERSION:2.0
PRODID:-//happyhands.org//NONSGML kigkonsult.se iCalcreator 2.30.10//
CALSCALE:GREGORIAN
METHOD:PUBLISH
UID:716c7ca8-9075-45c7-9136-ad22a3c63d7c
X-WR-CALDESC:
X-WR-RELCALID:4be6af666f65ea831eb81395ff6c9c7a
X-WR-TIMEZONE:America/Chicago
BEGIN:VTIMEZONE
TZID:America/Chicago
BEGIN:STANDARD
TZNAME:CST
DTSTART:20231105T020000
TZOFFSETFROM:-0500
TZOFFSETTO:-0600
RDATE:20241103T020000
RDATE:20251102T020000
END:STANDARD
BEGIN:DAYLIGHT
TZNAME:CDT
DTSTART:20240310T020000
TZOFFSETFROM:-0600
TZOFFSETTO:-0500
RDATE:20250309T020000
END:DAYLIGHT
END:VTIMEZONE
BEGIN:VEVENT
UID:dc3dbd87-9c3c-4788-8452-ac2dfd8106aa
DTSTAMP:20260424T093046Z
DESCRIPTION:
DTSTART;TZID=America/Chicago:20240603T050000
DTEND;TZID=America/Chicago:20240607T050001
LOCATION:
SUMMARY:Closed for Professional Development Training
END:VEVENT
END:VCALENDAR
