BEGIN:VCALENDAR
VERSION:2.0
PRODID:-//happyhands.org//NONSGML kigkonsult.se iCalcreator 2.30.10//
CALSCALE:GREGORIAN
METHOD:PUBLISH
UID:3c6bb42b-c9ba-4aa1-a0a0-5fcb9c708a80
X-WR-CALDESC:
X-WR-RELCALID:8def9c995a87b7dba3f828f8c4bb5cdd
X-WR-TIMEZONE:America/Chicago
BEGIN:VTIMEZONE
TZID:America/Chicago
BEGIN:STANDARD
TZNAME:CST
DTSTART:20231105T020000
TZOFFSETFROM:-0500
TZOFFSETTO:-0600
RDATE:20241103T020000
RDATE:20251102T020000
END:STANDARD
BEGIN:DAYLIGHT
TZNAME:CDT
DTSTART:20240310T020000
TZOFFSETFROM:-0600
TZOFFSETTO:-0500
RDATE:20250309T020000
END:DAYLIGHT
END:VTIMEZONE
BEGIN:VEVENT
UID:248a1c05-95ef-4c45-a41f-107f7708bc37
DTSTAMP:20260424T094034Z
DESCRIPTION:
DTSTART;TZID=America/Chicago:20240610T050000
DTEND;TZID=America/Chicago:20240610T050001
LOCATION:
SUMMARY:First Day of Summer Session
END:VEVENT
END:VCALENDAR
