BEGIN:VCALENDAR
VERSION:2.0
PRODID:-//happyhands.org//NONSGML kigkonsult.se iCalcreator 2.30.10//
CALSCALE:GREGORIAN
METHOD:PUBLISH
UID:94e09899-fe2c-41f0-a884-09e014091599
X-WR-CALDESC:
X-WR-RELCALID:8cdffd8fe5d6465dec9902b964eda715
X-WR-TIMEZONE:America/Chicago
BEGIN:VTIMEZONE
TZID:America/Chicago
BEGIN:STANDARD
TZNAME:CST
DTSTART:20231105T020000
TZOFFSETFROM:-0500
TZOFFSETTO:-0600
RDATE:20241103T020000
RDATE:20251102T020000
END:STANDARD
BEGIN:DAYLIGHT
TZNAME:CDT
DTSTART:20240310T020000
TZOFFSETFROM:-0600
TZOFFSETTO:-0500
RDATE:20250309T020000
END:DAYLIGHT
END:VTIMEZONE
BEGIN:VEVENT
UID:c1813b4a-cb59-4a9e-85aa-6267cbf219e5
DTSTAMP:20260424T093332Z
DESCRIPTION:
DTSTART;TZID=America/Chicago:20240619T000000
DTEND;TZID=America/Chicago:20240619T235900
LOCATION:
SUMMARY:CLOSED - Juneteenth
END:VEVENT
END:VCALENDAR
