BEGIN:VCALENDAR
VERSION:2.0
PRODID:-//happyhands.org//NONSGML kigkonsult.se iCalcreator 2.30.10//
CALSCALE:GREGORIAN
METHOD:PUBLISH
UID:b3abf08f-8fc1-466f-b7b9-1f97ebc43f32
X-WR-CALDESC:
X-WR-RELCALID:3415ea0ba8bf8d902ad79dfa25474faf
X-WR-TIMEZONE:America/Chicago
BEGIN:VTIMEZONE
TZID:America/Chicago
BEGIN:STANDARD
TZNAME:CST
DTSTART:20231105T020000
TZOFFSETFROM:-0500
TZOFFSETTO:-0600
RDATE:20241103T020000
RDATE:20251102T020000
END:STANDARD
BEGIN:DAYLIGHT
TZNAME:CDT
DTSTART:20240310T020000
TZOFFSETFROM:-0600
TZOFFSETTO:-0500
RDATE:20250309T020000
END:DAYLIGHT
END:VTIMEZONE
BEGIN:VEVENT
UID:840f174c-1773-418e-a732-d29e2dc1fc31
DTSTAMP:20260424T093138Z
DESCRIPTION:
DTSTART;TZID=America/Chicago:20240623T170000
DTEND;TZID=America/Chicago:20240623T200000
LOCATION:
SUMMARY:Board of Directors Annual Meeting
END:VEVENT
END:VCALENDAR
