BEGIN:VCALENDAR
VERSION:2.0
PRODID:-//happyhands.org//NONSGML kigkonsult.se iCalcreator 2.30.10//
CALSCALE:GREGORIAN
METHOD:PUBLISH
UID:e397ebe3-2424-44a5-9afc-771961c5ca2a
X-WR-CALDESC:
X-WR-RELCALID:571779e342870196be467be4f5ad132e
X-WR-TIMEZONE:America/Chicago
BEGIN:VTIMEZONE
TZID:America/Chicago
BEGIN:STANDARD
TZNAME:CST
DTSTART:20231105T020000
TZOFFSETFROM:-0500
TZOFFSETTO:-0600
RDATE:20241103T020000
RDATE:20251102T020000
END:STANDARD
BEGIN:DAYLIGHT
TZNAME:CDT
DTSTART:20240310T020000
TZOFFSETFROM:-0600
TZOFFSETTO:-0500
RDATE:20250309T020000
END:DAYLIGHT
END:VTIMEZONE
BEGIN:VEVENT
UID:87974e75-5a73-483e-9cd1-9d4b5ea8172a
DTSTAMP:20260424T063945Z
DESCRIPTION:
DTSTART;TZID=America/Chicago:20240812T000000
DTEND;TZID=America/Chicago:20240820T233000
LOCATION:8801 S. Garnett Rd.\, BROKEN ARROW\, AL 74012 US
SUMMARY:CLOSED - Professional Development Training
END:VEVENT
END:VCALENDAR
