BEGIN:VCALENDAR
VERSION:2.0
PRODID:-//happyhands.org//NONSGML kigkonsult.se iCalcreator 2.30.10//
CALSCALE:GREGORIAN
METHOD:PUBLISH
UID:60b86669-21ab-4670-b161-da410137f386
X-WR-CALDESC:
X-WR-RELCALID:92a28ff89fd3b495ed3569ed29575c06
X-WR-TIMEZONE:America/Chicago
BEGIN:VTIMEZONE
TZID:America/Chicago
BEGIN:STANDARD
TZNAME:CST
DTSTART:20231105T020000
TZOFFSETFROM:-0500
TZOFFSETTO:-0600
RDATE:20241103T020000
RDATE:20251102T020000
END:STANDARD
BEGIN:DAYLIGHT
TZNAME:CDT
DTSTART:20240310T020000
TZOFFSETFROM:-0600
TZOFFSETTO:-0500
RDATE:20250309T020000
END:DAYLIGHT
END:VTIMEZONE
BEGIN:VEVENT
UID:1a987ad2-6ac9-4e7d-99ff-ce20c4db39b0
DTSTAMP:20260424T063820Z
DESCRIPTION:
DTSTART;TZID=America/Chicago:20240821T120000
DTEND;TZID=America/Chicago:20240821T130000
LOCATION:
SUMMARY:First Day of New School Year
END:VEVENT
END:VCALENDAR
