BEGIN:VCALENDAR
VERSION:2.0
PRODID:-//happyhands.org//NONSGML kigkonsult.se iCalcreator 2.30.10//
CALSCALE:GREGORIAN
METHOD:PUBLISH
UID:f4f7c43c-26cb-488f-bb1d-7a023426011e
X-WR-CALDESC:We are celebrating THREE DECADES of serving Deaf and hard of h
 earing children with a 30th Birthday Bash!\n\nWe invite you to join us on 
 Saturday\, September 7th from 10am to 12pm at 8801 S. Garnett Rd. Broken A
 rrow\, OK for a special birthday bash!\n\nThere will be yard games\, a bou
 ncy house\, sweet treats\, and much more available for everyone in attenda
 nce.
X-WR-RELCALID:853919ff1d2f894a2fabd5e78f123afb
X-WR-TIMEZONE:America/Chicago
BEGIN:VTIMEZONE
TZID:America/Chicago
BEGIN:STANDARD
TZNAME:CST
DTSTART:20231105T020000
TZOFFSETFROM:-0500
TZOFFSETTO:-0600
RDATE:20241103T020000
RDATE:20251102T020000
END:STANDARD
BEGIN:DAYLIGHT
TZNAME:CDT
DTSTART:20240310T020000
TZOFFSETFROM:-0600
TZOFFSETTO:-0500
RDATE:20250309T020000
RDATE:20260308T020000
END:DAYLIGHT
END:VTIMEZONE
BEGIN:VEVENT
UID:60aa97f1-dd2a-4bb3-a0f9-9dea43354a82
DTSTAMP:20260424T050752Z
DESCRIPTION:We are celebrating THREE DECADES of serving Deaf and hard of he
 aring children with a 30th Birthday Bash!\n\nWe invite you to join us on S
 aturday\, September 7th from 10am to 12pm at 8801 S. Garnett Rd. Broken Ar
 row\, OK for a special birthday bash!\n\nThere will be yard games\, a boun
 cy house\, sweet treats\, and much more available for everyone in attendan
 ce.
DTSTART;TZID=America/Chicago:20240907T100000
DTEND;TZID=America/Chicago:20240907T120000
LOCATION:8801 S. Garnett Rd.\, BROKEN ARROW\, AL 74012 US
SUMMARY:Happy Hands 30th Birthday Bash
END:VEVENT
END:VCALENDAR
