BEGIN:VCALENDAR
VERSION:2.0
PRODID:-//happyhands.org//NONSGML kigkonsult.se iCalcreator 2.30.10//
CALSCALE:GREGORIAN
METHOD:PUBLISH
UID:3d8e369a-a8b5-4af5-a5d1-f75e1ea06089
X-WR-CALDESC:
X-WR-RELCALID:2d839c0f22e3b9d2b06644877991f77e
X-WR-TIMEZONE:America/Chicago
BEGIN:VTIMEZONE
TZID:America/Chicago
BEGIN:STANDARD
TZNAME:CST
DTSTART:20231105T020000
TZOFFSETFROM:-0500
TZOFFSETTO:-0600
RDATE:20241103T020000
RDATE:20251102T020000
END:STANDARD
BEGIN:DAYLIGHT
TZNAME:CDT
DTSTART:20240310T020000
TZOFFSETFROM:-0600
TZOFFSETTO:-0500
RDATE:20250309T020000
RDATE:20260308T020000
END:DAYLIGHT
END:VTIMEZONE
BEGIN:VEVENT
UID:9fc24c9e-5dff-4519-82f4-c179ab65263f
DTSTAMP:20260424T033414Z
DESCRIPTION:
DTSTART;TZID=America/Chicago:20241017T050000
DTEND;TZID=America/Chicago:20241018T050001
LOCATION:
SUMMARY:CLOSED - Fall Break
END:VEVENT
END:VCALENDAR
