BEGIN:VCALENDAR
VERSION:2.0
PRODID:-//happyhands.org//NONSGML kigkonsult.se iCalcreator 2.30.10//
CALSCALE:GREGORIAN
METHOD:PUBLISH
UID:6feaa36b-76e1-4b5a-b765-963cf0ec53bd
X-WR-CALDESC:
X-WR-RELCALID:bf8b6c91a3c0a3f2162bf140678e13a2
X-WR-TIMEZONE:America/Chicago
BEGIN:VTIMEZONE
TZID:America/Chicago
BEGIN:STANDARD
TZNAME:CST
DTSTART:20241103T020000
TZOFFSETFROM:-0500
TZOFFSETTO:-0600
RDATE:20251102T020000
END:STANDARD
BEGIN:DAYLIGHT
TZNAME:CDT
DTSTART:20240310T020000
TZOFFSETFROM:-0600
TZOFFSETTO:-0500
RDATE:20250309T020000
RDATE:20260308T020000
END:DAYLIGHT
END:VTIMEZONE
BEGIN:VEVENT
UID:2b88aa0f-0817-4c1d-8885-821f3882b855
DTSTAMP:20260424T043340Z
DESCRIPTION:
DTSTART;TZID=America/Chicago:20241213T050000
DTEND;TZID=America/Chicago:20241213T050001
LOCATION:
SUMMARY:Christmas Program
END:VEVENT
END:VCALENDAR
