BEGIN:VCALENDAR
VERSION:2.0
PRODID:-//happyhands.org//NONSGML kigkonsult.se iCalcreator 2.30.10//
CALSCALE:GREGORIAN
METHOD:PUBLISH
UID:a3138cef-2458-4031-a278-e0bae27f7c6e
X-WR-CALDESC:
X-WR-RELCALID:d8849638a675690450d1e0ff32a11fb0
X-WR-TIMEZONE:America/Chicago
BEGIN:VTIMEZONE
TZID:America/Chicago
BEGIN:STANDARD
TZNAME:CST
DTSTART:20241103T020000
TZOFFSETFROM:-0500
TZOFFSETTO:-0600
RDATE:20251102T020000
END:STANDARD
BEGIN:DAYLIGHT
TZNAME:CDT
DTSTART:20240310T020000
TZOFFSETFROM:-0600
TZOFFSETTO:-0500
RDATE:20250309T020000
RDATE:20260308T020000
END:DAYLIGHT
END:VTIMEZONE
BEGIN:VEVENT
UID:a8300be7-848c-4af9-875b-ccc3c144e91b
DTSTAMP:20260423T231200Z
DESCRIPTION:
DTSTART;TZID=America/Chicago:20241223T050000
DTEND;TZID=America/Chicago:20250103T050001
LOCATION:
SUMMARY:CLOSED - Christmas Break
END:VEVENT
END:VCALENDAR
