BEGIN:VCALENDAR
VERSION:2.0
PRODID:-//happyhands.org//NONSGML kigkonsult.se iCalcreator 2.30.10//
CALSCALE:GREGORIAN
METHOD:PUBLISH
UID:8d2ab78d-646a-4b54-b3b1-005a033e2dbc
X-WR-CALDESC:
X-WR-RELCALID:c1eedaa61ed01999cbd669416309ec6e
X-WR-TIMEZONE:America/Chicago
BEGIN:VTIMEZONE
TZID:America/Chicago
BEGIN:STANDARD
TZNAME:CST
DTSTART:20241103T020000
TZOFFSETFROM:-0500
TZOFFSETTO:-0600
RDATE:20251102T020000
END:STANDARD
BEGIN:DAYLIGHT
TZNAME:CDT
DTSTART:20240310T020000
TZOFFSETFROM:-0600
TZOFFSETTO:-0500
RDATE:20250309T020000
RDATE:20260308T020000
END:DAYLIGHT
END:VTIMEZONE
BEGIN:VEVENT
UID:d5d12d82-91a8-4f19-be31-36616e9143bd
DTSTAMP:20260424T003024Z
DESCRIPTION:
DTSTART;TZID=America/Chicago:20241226T110000
DTEND;TZID=America/Chicago:20241226T130000
LOCATION:
SUMMARY:Board of Directors Monthly Meeting
END:VEVENT
END:VCALENDAR
