BEGIN:VCALENDAR
VERSION:2.0
PRODID:-//happyhands.org//NONSGML kigkonsult.se iCalcreator 2.30.10//
CALSCALE:GREGORIAN
METHOD:PUBLISH
UID:263dee3d-1498-47b3-b3b8-5ee7b7411c09
X-WR-CALDESC:
X-WR-RELCALID:82912df25dfd79915e5a1f1c731a6b43
X-WR-TIMEZONE:America/Chicago
BEGIN:VTIMEZONE
TZID:America/Chicago
BEGIN:STANDARD
TZNAME:CST
DTSTART:20241103T020000
TZOFFSETFROM:-0500
TZOFFSETTO:-0600
RDATE:20251102T020000
END:STANDARD
BEGIN:DAYLIGHT
TZNAME:CDT
DTSTART:20240310T020000
TZOFFSETFROM:-0600
TZOFFSETTO:-0500
RDATE:20250309T020000
RDATE:20260308T020000
END:DAYLIGHT
END:VTIMEZONE
BEGIN:VEVENT
UID:f051e210-970b-4702-814d-82a236218700
DTSTAMP:20260423T230718Z
DESCRIPTION:
DTSTART;TZID=America/Chicago:20250120T050000
DTEND;TZID=America/Chicago:20250120T050001
LOCATION:
SUMMARY:CLOSED - Martin Luther King Jr. Day
END:VEVENT
END:VCALENDAR
