BEGIN:VCALENDAR
VERSION:2.0
PRODID:-//happyhands.org//NONSGML kigkonsult.se iCalcreator 2.30.10//
CALSCALE:GREGORIAN
METHOD:PUBLISH
UID:4f720cf4-dfef-4885-acda-dca5e67c6e84
X-WR-CALDESC:
X-WR-RELCALID:a5e70dd66985b28b32190dcc1222c79f
X-WR-TIMEZONE:America/Chicago
BEGIN:VTIMEZONE
TZID:America/Chicago
BEGIN:STANDARD
TZNAME:CST
DTSTART:20241103T020000
TZOFFSETFROM:-0500
TZOFFSETTO:-0600
RDATE:20251102T020000
END:STANDARD
BEGIN:DAYLIGHT
TZNAME:CDT
DTSTART:20240310T020000
TZOFFSETFROM:-0600
TZOFFSETTO:-0500
RDATE:20250309T020000
RDATE:20260308T020000
END:DAYLIGHT
END:VTIMEZONE
BEGIN:VEVENT
UID:61837813-5c68-40f3-9f13-be4ea84b3503
DTSTAMP:20260423T231038Z
DESCRIPTION:
DTSTART;TZID=America/Chicago:20250129T050000
DTEND;TZID=America/Chicago:20250129T050001
LOCATION:
SUMMARY:Early Release Day
END:VEVENT
END:VCALENDAR
