BEGIN:VCALENDAR
VERSION:2.0
PRODID:-//happyhands.org//NONSGML kigkonsult.se iCalcreator 2.30.10//
CALSCALE:GREGORIAN
METHOD:PUBLISH
UID:b7c411a4-d575-4408-bebc-7f4986990ed8
X-WR-CALDESC:
X-WR-RELCALID:559f77601ab2ca215bcaf68398e850a1
X-WR-TIMEZONE:America/Chicago
BEGIN:VTIMEZONE
TZID:America/Chicago
BEGIN:STANDARD
TZNAME:CST
DTSTART:20241103T020000
TZOFFSETFROM:-0500
TZOFFSETTO:-0600
RDATE:20251102T020000
END:STANDARD
BEGIN:DAYLIGHT
TZNAME:CDT
DTSTART:20250309T020000
TZOFFSETFROM:-0600
TZOFFSETTO:-0500
RDATE:20260308T020000
END:DAYLIGHT
END:VTIMEZONE
BEGIN:VEVENT
UID:d219ac2a-4357-4a0d-b57d-f3d1abfe1a00
DTSTAMP:20260423T193822Z
DESCRIPTION:
DTSTART;TZID=America/Chicago:20250326T050000
DTEND;TZID=America/Chicago:20250326T050001
LOCATION:
SUMMARY:Early Release Day
END:VEVENT
END:VCALENDAR
