BEGIN:VCALENDAR
VERSION:2.0
PRODID:-//happyhands.org//NONSGML kigkonsult.se iCalcreator 2.30.10//
CALSCALE:GREGORIAN
METHOD:PUBLISH
UID:0aa5d74c-7d1c-4995-8d07-f1c507e8735c
X-WR-CALDESC:
X-WR-RELCALID:16a786163b9e1ac06e0d15b8b607b119
X-WR-TIMEZONE:America/Chicago
BEGIN:VTIMEZONE
TZID:America/Chicago
BEGIN:STANDARD
TZNAME:CST
DTSTART:20241103T020000
TZOFFSETFROM:-0500
TZOFFSETTO:-0600
RDATE:20251102T020000
RDATE:20261101T020000
END:STANDARD
BEGIN:DAYLIGHT
TZNAME:CDT
DTSTART:20250309T020000
TZOFFSETFROM:-0600
TZOFFSETTO:-0500
RDATE:20260308T020000
END:DAYLIGHT
END:VTIMEZONE
BEGIN:VEVENT
UID:7794da89-859b-4988-8505-4cb029309bb3
DTSTAMP:20260423T162503Z
DESCRIPTION:
DTSTART;TZID=America/Chicago:20250512T050000
DTEND;TZID=America/Chicago:20250512T050001
LOCATION:
SUMMARY:Mother's Day Event
END:VEVENT
END:VCALENDAR
