BEGIN:VCALENDAR
VERSION:2.0
PRODID:-//happyhands.org//NONSGML kigkonsult.se iCalcreator 2.30.10//
CALSCALE:GREGORIAN
METHOD:PUBLISH
UID:49697d09-fb8e-498b-ba1e-57c2f2c048c9
X-WR-CALDESC:
X-WR-RELCALID:238cd80b28714e4300043b9ca6bd690e
X-WR-TIMEZONE:America/Chicago
BEGIN:VTIMEZONE
TZID:America/Chicago
BEGIN:STANDARD
TZNAME:CST
DTSTART:20241103T020000
TZOFFSETFROM:-0500
TZOFFSETTO:-0600
RDATE:20251102T020000
RDATE:20261101T020000
END:STANDARD
BEGIN:DAYLIGHT
TZNAME:CDT
DTSTART:20250309T020000
TZOFFSETFROM:-0600
TZOFFSETTO:-0500
RDATE:20260308T020000
END:DAYLIGHT
END:VTIMEZONE
BEGIN:VEVENT
UID:2edef07b-93e8-4364-b7bd-e05553e0a36a
DTSTAMP:20260423T163132Z
DESCRIPTION:
DTSTART;TZID=America/Chicago:20250526T050000
DTEND;TZID=America/Chicago:20250526T050001
LOCATION:
SUMMARY:CLOSED - Memorial Day
END:VEVENT
END:VCALENDAR
