BEGIN:VCALENDAR
VERSION:2.0
PRODID:-//happyhands.org//NONSGML kigkonsult.se iCalcreator 2.30.10//
CALSCALE:GREGORIAN
METHOD:PUBLISH
UID:5cbe3e1c-98e8-484f-81a2-b151422d0513
X-WR-CALDESC:
X-WR-RELCALID:4e418aac3719a27df407ec82b9724210
X-WR-TIMEZONE:America/Chicago
BEGIN:VTIMEZONE
TZID:America/Chicago
BEGIN:STANDARD
TZNAME:CST
DTSTART:20241103T020000
TZOFFSETFROM:-0500
TZOFFSETTO:-0600
RDATE:20251102T020000
RDATE:20261101T020000
END:STANDARD
BEGIN:DAYLIGHT
TZNAME:CDT
DTSTART:20250309T020000
TZOFFSETFROM:-0600
TZOFFSETTO:-0500
RDATE:20260308T020000
END:DAYLIGHT
END:VTIMEZONE
BEGIN:VEVENT
UID:73fb6ce1-feac-47eb-b619-9298c3390917
DTSTAMP:20260423T113613Z
DESCRIPTION:
DTSTART;TZID=America/Chicago:20250819T050000
DTEND;TZID=America/Chicago:20250819T050001
LOCATION:
SUMMARY:First Day of School
END:VEVENT
END:VCALENDAR
