BEGIN:VCALENDAR
VERSION:2.0
PRODID:-//happyhands.org//NONSGML kigkonsult.se iCalcreator 2.30.10//
CALSCALE:GREGORIAN
METHOD:PUBLISH
UID:3f8c1527-6a9e-4a02-9e5c-83e9b2d6b3ac
X-WR-CALDESC:
X-WR-RELCALID:395336bd2b8a3fcc4dfdf3e1b562fb6d
X-WR-TIMEZONE:America/Chicago
BEGIN:VTIMEZONE
TZID:America/Chicago
BEGIN:STANDARD
TZNAME:CST
DTSTART:20241103T020000
TZOFFSETFROM:-0500
TZOFFSETTO:-0600
RDATE:20251102T020000
RDATE:20261101T020000
END:STANDARD
BEGIN:DAYLIGHT
TZNAME:CDT
DTSTART:20250309T020000
TZOFFSETFROM:-0600
TZOFFSETTO:-0500
RDATE:20260308T020000
END:DAYLIGHT
END:VTIMEZONE
BEGIN:VEVENT
UID:aadce5da-6b41-4345-bdcc-1abf3f7c6725
DTSTAMP:20260423T095008Z
DESCRIPTION:
DTSTART;TZID=America/Chicago:20250901T050000
DTEND;TZID=America/Chicago:20250901T050001
LOCATION:
SUMMARY:Closed for Labor Day
END:VEVENT
END:VCALENDAR
