BEGIN:VCALENDAR
VERSION:2.0
PRODID:-//happyhands.org//NONSGML kigkonsult.se iCalcreator 2.30.10//
CALSCALE:GREGORIAN
METHOD:PUBLISH
UID:af96fc9c-c816-4755-9c4b-89de2500a8c9
X-WR-CALDESC:All children must be picked up by 4pm.
X-WR-RELCALID:fd4d9ec6ba2858ec2db5106a85df91d9
X-WR-TIMEZONE:America/Chicago
BEGIN:VTIMEZONE
TZID:America/Chicago
BEGIN:STANDARD
TZNAME:CST
DTSTART:20241103T020000
TZOFFSETFROM:-0500
TZOFFSETTO:-0600
RDATE:20251102T020000
RDATE:20261101T020000
END:STANDARD
BEGIN:DAYLIGHT
TZNAME:CDT
DTSTART:20250309T020000
TZOFFSETFROM:-0600
TZOFFSETTO:-0500
RDATE:20260308T020000
RDATE:20270314T020000
END:DAYLIGHT
END:VTIMEZONE
BEGIN:VEVENT
UID:ed4abf94-8303-40a1-b225-4c90d0d537aa
DTSTAMP:20260423T095352Z
DESCRIPTION:All children must be picked up by 4pm.
DTSTART;TZID=America/Chicago:20250918T050000
DTEND;TZID=America/Chicago:20250918T050001
LOCATION:
SUMMARY:Early Release Day
END:VEVENT
END:VCALENDAR
