BEGIN:VCALENDAR
VERSION:2.0
PRODID:-//happyhands.org//NONSGML kigkonsult.se iCalcreator 2.30.10//
CALSCALE:GREGORIAN
METHOD:PUBLISH
UID:58a045ff-289f-4a32-ac26-6dd31e3569ba
X-WR-CALDESC:
X-WR-RELCALID:d42f600f72018569444c4f3809655e83
X-WR-TIMEZONE:America/Chicago
BEGIN:VTIMEZONE
TZID:America/Chicago
BEGIN:STANDARD
TZNAME:CST
DTSTART:20241103T020000
TZOFFSETFROM:-0500
TZOFFSETTO:-0600
RDATE:20251102T020000
RDATE:20261101T020000
END:STANDARD
BEGIN:DAYLIGHT
TZNAME:CDT
DTSTART:20250309T020000
TZOFFSETFROM:-0600
TZOFFSETTO:-0500
RDATE:20260308T020000
RDATE:20270314T020000
END:DAYLIGHT
END:VTIMEZONE
BEGIN:VEVENT
UID:0cf1174f-204a-4a2e-9d92-e7dbbab6a938
DTSTAMP:20260423T095453Z
DESCRIPTION:
DTSTART;TZID=America/Chicago:20250925T110000
DTEND;TZID=America/Chicago:20250925T130000
LOCATION:
SUMMARY:Board of Directors Monthly Meeting
END:VEVENT
END:VCALENDAR
