BEGIN:VCALENDAR
VERSION:2.0
PRODID:-//happyhands.org//NONSGML kigkonsult.se iCalcreator 2.30.10//
CALSCALE:GREGORIAN
METHOD:PUBLISH
UID:62cf7b8c-0b65-43ac-8e9f-34511b5c97e3
X-WR-CALDESC:📅Next Dates:\nOct 7\, 21\, 28 | Nov 4\, 11\, 18 | Dec 2\, 16\n
 \nnFREE for Parents & Staff\n🙏Grandparents & Volunteers - Donations Apprec
 iated\n💵$100 All Others \n\nLearn. Connect. Sign Together. \nPlease RSVP w
 ith Anna.
X-WR-RELCALID:7729170f1fcaea11e63d5d389d3fab30
X-WR-TIMEZONE:America/Chicago
BEGIN:VTIMEZONE
TZID:America/Chicago
BEGIN:STANDARD
TZNAME:CST
DTSTART:20241103T020000
TZOFFSETFROM:-0500
TZOFFSETTO:-0600
RDATE:20251102T020000
RDATE:20261101T020000
END:STANDARD
BEGIN:DAYLIGHT
TZNAME:CDT
DTSTART:20250309T020000
TZOFFSETFROM:-0600
TZOFFSETTO:-0500
RDATE:20260308T020000
RDATE:20270314T020000
END:DAYLIGHT
END:VTIMEZONE
BEGIN:VEVENT
UID:2d9bd158-1786-437b-be61-1ed106d3c19c
DTSTAMP:20260423T093239Z
DESCRIPTION:📅Next Dates:\nOct 7\, 21\, 28 | Nov 4\, 11\, 18 | Dec 2\, 16\n
 \nnFREE for Parents & Staff\n🙏Grandparents & Volunteers - Donations Apprec
 iated\n💵$100 All Others \n\nLearn. Connect. Sign Together. \nPlease RSVP w
 ith Anna.
DTSTART;TZID=America/Chicago:20250930T180000
DTEND;TZID=America/Chicago:20250930T193000
LOCATION:8801 S Garnett Rd.\, Broken Arrow\, OK 74012 US
SUMMARY:ASL Class—Open to the Public
END:VEVENT
END:VCALENDAR
