BEGIN:VCALENDAR
VERSION:2.0
PRODID:-//happyhands.org//NONSGML kigkonsult.se iCalcreator 2.30.10//
CALSCALE:GREGORIAN
METHOD:PUBLISH
UID:08a53fc9-1dbb-427f-962a-35d74d1c1aa5
X-WR-CALDESC:
X-WR-RELCALID:f344632cf8938c00d94b2bac44758e83
X-WR-TIMEZONE:America/Chicago
BEGIN:VTIMEZONE
TZID:America/Chicago
BEGIN:STANDARD
TZNAME:CST
DTSTART:20241103T020000
TZOFFSETFROM:-0500
TZOFFSETTO:-0600
RDATE:20251102T020000
RDATE:20261101T020000
END:STANDARD
BEGIN:DAYLIGHT
TZNAME:CDT
DTSTART:20250309T020000
TZOFFSETFROM:-0600
TZOFFSETTO:-0500
RDATE:20260308T020000
RDATE:20270314T020000
END:DAYLIGHT
END:VTIMEZONE
BEGIN:VEVENT
UID:19560df3-2e4e-4f73-be1e-d61837ea19fa
DTSTAMP:20260423T080742Z
DESCRIPTION:
DTSTART;TZID=America/Chicago:20251015T050000
DTEND;TZID=America/Chicago:20251015T050001
LOCATION:
SUMMARY:Closed for Professional Development
END:VEVENT
END:VCALENDAR
