BEGIN:VCALENDAR
VERSION:2.0
PRODID:-//happyhands.org//NONSGML kigkonsult.se iCalcreator 2.30.10//
CALSCALE:GREGORIAN
METHOD:PUBLISH
UID:923e42b6-e837-4750-ae1e-fe60e000b5a4
X-WR-CALDESC:
X-WR-RELCALID:69857072776f513f6af1e814655efe43
X-WR-TIMEZONE:America/Chicago
BEGIN:VTIMEZONE
TZID:America/Chicago
BEGIN:STANDARD
TZNAME:CST
DTSTART:20241103T020000
TZOFFSETFROM:-0500
TZOFFSETTO:-0600
RDATE:20251102T020000
RDATE:20261101T020000
END:STANDARD
BEGIN:DAYLIGHT
TZNAME:CDT
DTSTART:20250309T020000
TZOFFSETFROM:-0600
TZOFFSETTO:-0500
RDATE:20260308T020000
RDATE:20270314T020000
END:DAYLIGHT
END:VTIMEZONE
BEGIN:VEVENT
UID:c9b18bb0-24fd-4614-8e7a-e32ba9b3b983
DTSTAMP:20260423T075216Z
DESCRIPTION:
DTSTART;TZID=America/Chicago:20251016T050000
DTEND;TZID=America/Chicago:20251017T050001
LOCATION:
SUMMARY:Closed for Fall Break
END:VEVENT
END:VCALENDAR
