BEGIN:VCALENDAR
VERSION:2.0
PRODID:-//happyhands.org//NONSGML kigkonsult.se iCalcreator 2.30.10//
CALSCALE:GREGORIAN
METHOD:PUBLISH
UID:9b6999d8-4daa-4122-ab73-d22c130398ac
X-WR-CALDESC:Join Us for an Open House at Happy Hands!\n\nCurious about wha
 t makes Happy Hands such a special place? We’d love to show you! Come visi
 t us on Thursday\, March 12 at 11:00 AM for our Open House Tour.\n\nPlease
  note: This tour is not for prospective students. It is a community tour d
 esigned to connect partners\, donors\, and friends to our mission.\n\nBrin
 g a friend and walk through our classrooms\, meet our amazing staff\, and 
 learn more about how we support children who are deaf or hard of hearing\,
  their siblings\, and CODAs in a faith-filled\, Christ-centered environmen
 t. This is a wonderful opportunity to see our mission in action and experi
 ence the joyful\, inclusive community that makes Happy Hands unique.\n\nIf
  you are a parent interested in a student tour\, please contact us to sche
 dule a separate visit.
X-WR-RELCALID:22cc2654cd765c3384d14bfe1546583c
X-WR-TIMEZONE:America/Chicago
BEGIN:VTIMEZONE
TZID:America/Chicago
BEGIN:STANDARD
TZNAME:CST
DTSTART:20251102T020000
TZOFFSETFROM:-0500
TZOFFSETTO:-0600
RDATE:20261101T020000
END:STANDARD
BEGIN:DAYLIGHT
TZNAME:CDT
DTSTART:20260308T020000
TZOFFSETFROM:-0600
TZOFFSETTO:-0500
RDATE:20270314T020000
END:DAYLIGHT
END:VTIMEZONE
BEGIN:VEVENT
UID:06d4d48c-7747-43a6-9a6c-a4f5ed0961d1
DTSTAMP:20260422T235103Z
DESCRIPTION:Join Us for an Open House at Happy Hands!\n\nCurious about what
  makes Happy Hands such a special place? We’d love to show you! Come visit
  us on Thursday\, March 12 at 11:00 AM for our Open House Tour.\n\nPlease 
 note: This tour is not for prospective students. It is a community tour de
 signed to connect partners\, donors\, and friends to our mission.\n\nBring
  a friend and walk through our classrooms\, meet our amazing staff\, and l
 earn more about how we support children who are deaf or hard of hearing\, 
 their siblings\, and CODAs in a faith-filled\, Christ-centered environment
 . This is a wonderful opportunity to see our mission in action and experie
 nce the joyful\, inclusive community that makes Happy Hands unique.\n\nIf 
 you are a parent interested in a student tour\, please contact us to sched
 ule a separate visit.
DTSTART;TZID=America/Chicago:20260312T050000
DTEND;TZID=America/Chicago:20260312T050001
LOCATION:8801 South Garnett Road\, Broken Arrow\, OK 74012 US
SUMMARY:March Open House Tour
END:VEVENT
END:VCALENDAR
