BEGIN:VCALENDAR
VERSION:2.0
PRODID:-//happyhands.org//NONSGML kigkonsult.se iCalcreator 2.30.10//
CALSCALE:GREGORIAN
METHOD:PUBLISH
UID:b145939f-ba61-4075-823c-28f8a3dbc3d0
X-WR-CALDESC:
X-WR-RELCALID:0ed7f621271d6d766b38121fef01490c
X-WR-TIMEZONE:America/Chicago
BEGIN:VTIMEZONE
TZID:America/Chicago
BEGIN:STANDARD
TZNAME:CST
DTSTART:20251102T020000
TZOFFSETFROM:-0500
TZOFFSETTO:-0600
RDATE:20261101T020000
RDATE:20271107T020000
END:STANDARD
BEGIN:DAYLIGHT
TZNAME:CDT
DTSTART:20260308T020000
TZOFFSETFROM:-0600
TZOFFSETTO:-0500
RDATE:20270314T020000
RDATE:20280312T020000
END:DAYLIGHT
END:VTIMEZONE
BEGIN:VEVENT
UID:cb0a3ec3-8ba9-42b6-8469-8648f56e1eb8
DTSTAMP:20260423T080844Z
DESCRIPTION:
DTSTART;TZID=America/Chicago:20261022T110000
DTEND;TZID=America/Chicago:20261022T130000
LOCATION:
SUMMARY:Board of Directors Monthly Meeting
END:VEVENT
END:VCALENDAR
