BEGIN:VCALENDAR
VERSION:2.0
PRODID:-//happyhands.org//NONSGML kigkonsult.se iCalcreator 2.30.10//
CALSCALE:GREGORIAN
METHOD:PUBLISH
UID:cf7df5fd-b15b-4392-ac18-b3cd8f6af3f8
X-WR-CALDESC:
X-WR-RELCALID:93c0449df265d33910df318a11dba260
X-WR-TIMEZONE:America/Chicago
BEGIN:VTIMEZONE
TZID:America/Chicago
BEGIN:STANDARD
TZNAME:CST
DTSTART:20261101T020000
TZOFFSETFROM:-0500
TZOFFSETTO:-0600
RDATE:20271107T020000
END:STANDARD
BEGIN:DAYLIGHT
TZNAME:CDT
DTSTART:20260308T020000
TZOFFSETFROM:-0600
TZOFFSETTO:-0500
RDATE:20270314T020000
RDATE:20280312T020000
END:DAYLIGHT
END:VTIMEZONE
BEGIN:VEVENT
UID:fd01c923-fc5d-48d3-916a-331a3a0d3ec8
DTSTAMP:20260425T114218Z
DESCRIPTION:
DTSTART;TZID=America/Chicago:20270225T110000
DTEND;TZID=America/Chicago:20270225T130000
LOCATION:
SUMMARY:Board of Directors Monthly Meeting
END:VEVENT
END:VCALENDAR
