BEGIN:VCALENDAR
VERSION:2.0
PRODID:-//happyhands.org//NONSGML kigkonsult.se iCalcreator 2.30.10//
CALSCALE:GREGORIAN
METHOD:PUBLISH
UID:dd143224-93ad-4c8a-b0e2-5392fe8cee65
X-WR-CALDESC:
X-WR-RELCALID:564c733379d44f7daeecf1d4a2b6c806
X-WR-TIMEZONE:America/Chicago
BEGIN:VTIMEZONE
TZID:America/Chicago
BEGIN:STANDARD
TZNAME:CST
DTSTART:20261101T020000
TZOFFSETFROM:-0500
TZOFFSETTO:-0600
RDATE:20271107T020000
RDATE:20281105T020000
END:STANDARD
BEGIN:DAYLIGHT
TZNAME:CDT
DTSTART:20270314T020000
TZOFFSETFROM:-0600
TZOFFSETTO:-0500
RDATE:20280312T020000
END:DAYLIGHT
END:VTIMEZONE
BEGIN:VEVENT
UID:445e065a-6882-4c64-a073-ed428e6aed2f
DTSTAMP:20260425T161830Z
DESCRIPTION:
DTSTART;TZID=America/Chicago:20270527T110000
DTEND;TZID=America/Chicago:20270527T130000
LOCATION:
SUMMARY:Board of Directors Monthly Meeting
END:VEVENT
END:VCALENDAR
